BEGIN:VCALENDAR
VERSION:2.0
PRODID:Events Booking
BEGIN:VEVENT
UID:69e9fe1d2366d
SUMMARY:Cineclube Fibra Especial “Avant- Première: Ver-o-Peso\, o filme\
 , 40 anos\, hoje”
DESCRIPTION:O documentário “Ver-o-Peso” (15 min)\, de Januário Guedes
 \, Sônia Freitas e Peter Roland\, de 1984\, é\, de certo modo\, fruto de
  um contexto histórico de exibição e produção no Estado do Pará\, em
  especial Belém\, que na década de 1960\, fazia parte de um movimento t
 écnico e estético promovido pelas mudanças no cinema\, como o neorreali
 smo italiano\, a nouvelle vague\, os grandes clássicos hollywoodianos e o
  cinema novo brasileiro.
 E\, por outro lado\, as formas de filmar mudari
 am radicalmente\, especialmente com o surgimento das câmeras super 8\, ma
 is fáceis de manusear e com modos mais práticos para revelar um filme. A
  cidade se aproveitou dessa situação. Seus novos diretores\, muitos dele
 s pertencentes aos importantes cineclubes que atuavam na cidade\, iriam de
 senvolver uma produção de caráter amador\, mas em alguns casos\, com pr
 etensão de profissionalismo e\, principalmente\, como filmes autorais.
 
 O filme “Ver-o-Peso” estava dentro desse contexto experimental e\, tam
 bém\, foi o resultado desse momento de um arroubo de profissionalismo. O 
 curta conta a história do encontro inesperado de um turista com um velho 
 mendigo\, interpretado por Alberto Bastos\, na feira do Ver-o-Peso. O turi
 sta (Peter Roland) tem sua câmera roubada\, mas ela é recuperada pelo ex
 periente ancião.
 O que pode parecer um simples ato do cotidiano na verd
 ade revela um momento de representação do complexo cultural mais importa
 nte da cidade até então. Uma representação que prenunciava\, ou anunci
 ava\, as mudanças pelas quais a região já vinha passando.
 
LOCATION:Av. Gentil Bittencourt\, 1144.
DTSTART:20241019T190000Z
DTEND:20241019T210000Z
DTSTAMP:20241011T000612Z
ORGANIZER;CN=Portal de Eventos - Centro Universitário Fibra:MAILTO:eventos
 @fibrapara.edu.br
GEO:-1.455183;-48.482397
X-APPLE-STRUCTURED-LOCATION;VALUE=URI;X-ADDRESS=Av. Gentil Bittencourt\, 11
 44.;X-APPLE-RADIUS=72;X-TITLE=Centro Universitário Fibra:-1.455183;-48.48
 2397
END:VEVENT
END:VCALENDAR