BEGIN:VCALENDAR
VERSION:2.0
PRODID:Events Booking
BEGIN:VEVENT
UID:69e9fe3c6a84e
SUMMARY:Cineclube Fibra Psi - Os Sonhadores
DESCRIPTION:O&nbsp\;Cineclube Fibra&nbsp\;de maio sera novamente uma Sessã
 o Psi. Desta vez\,&nbsp\;&nbsp\;com a exibição do filme&nbsp\;Os Sonhado
 res.
 Após a sessão\, haverá uma conversa com o público mediada pelo&
 nbsp\;professor Marco Antônio Moreira\, crítico de cinema e cineclubista
 \, e pelo&nbsp\;professor Ronildo Silva\, docente do curso de Psicologia d
 o Centro Universitário Fibra. O debate abordará as temáticas centrais d
 o filme e suas possíveis leituras à luz da Psicologia.
 
LOCATION:Av. Gentil Bittencourt\, 1144.
DTSTART:20250530T183000Z
DTEND:20250530T203000Z
DTSTAMP:20250519T223745Z
ORGANIZER;CN=Portal de Eventos - Centro Universitário Fibra:MAILTO:eventos
 @fibrapara.edu.br
GEO:-1.455183;-48.482397
X-APPLE-STRUCTURED-LOCATION;VALUE=URI;X-ADDRESS=Av. Gentil Bittencourt\, 11
 44.;X-APPLE-RADIUS=72;X-TITLE=Centro Universitário Fibra:-1.455183;-48.48
 2397
END:VEVENT
END:VCALENDAR