BEGIN:VCALENDAR
VERSION:2.0
PRODID:Events Booking
BEGIN:VEVENT
UID:69e9fe1c79fff
SUMMARY:Cineclube Fibra - I Mostra de Curtas-Metragens Fibra: A Produção 
 Audiovisual Paraense em Foco
DESCRIPTION:Com o objetivo de celebrar a produção audiovisual local\, a I
  Mostra de Curtas-metragens Fibra\, evento integrante da Atividade de Exte
 nsão Cineclube Fibra\, exibirá\, no dia 25 de novembro de 2023\, quatro 
 produções dirigidas por cineastas paraenses. São elas:
 “Fotógrafo 
 de Família”\, de Denise Espíndola (19 minutos)
 “Ladrão”\, de Fe
 lipe Cordeiro (19 minutos)
 “Sentidos do Estupro na Amazônia”\, de M
 ailô Andrade e Debora McDowell (23 minutos)
 “Apoptosis”\, de Brenda
  Bastos (16 minutos)
 Serviço:
 A I Mostra de Curtas-metragens Fibra ac
 ontecerá no dia 25 de novembro\, às 16H\, no auditório do Centro Univer
 sitário Fibra. Entrada franca.
 
DTSTART:20231125T190000Z
DTEND:20231125T210000Z
DTSTAMP:20231121T214008Z
ORGANIZER;CN=Portal de Eventos - Centro Universitário Fibra:MAILTO:eventos
 @fibrapara.edu.br
END:VEVENT
END:VCALENDAR