BEGIN:VCALENDAR
VERSION:2.0
PRODID:Events Booking
BEGIN:VEVENT
UID:69e9eb69de16c
SUMMARY:Cineclube Fibra: Melancolia
DESCRIPTION:O primeiro Cineclube&nbsp\;Fibra do segundo semestre de 2024 se
 rá uma Sessão Psi! E vai exibir o clássico cult \"Melancolia\" de Lars 
 Von Trier\, estrelado por&nbsp\;Kirsten Dunst\, Charlotte Gainsbourg e Kie
 fer Sutherland. Após a exibição\, o professor Marco Antônio Moreira\, 
 crítico de cinema e&nbsp\;cineclubista\, e o professor Ronildo Silva\, do
 cente do curso de Psicologia do Centro Universitário Fibra\, conversarão
 &nbsp\;com o público presente sobre as temáticas abordadas no filme.
 
LOCATION:Av. Gentil Bittencourt\, 1144.
DTSTART:20240921T190000Z
DTEND:20240921T220000Z
DTSTAMP:20240920T215348Z
ORGANIZER;CN=Portal de Eventos - Centro Universitário Fibra:MAILTO:eventos
 @fibrapara.edu.br
GEO:-1.455183;-48.482397
X-APPLE-STRUCTURED-LOCATION;VALUE=URI;X-ADDRESS=Av. Gentil Bittencourt\, 11
 44.;X-APPLE-RADIUS=72;X-TITLE=Centro Universitário Fibra:-1.455183;-48.48
 2397
END:VEVENT
END:VCALENDAR