BEGIN:VCALENDAR
VERSION:2.0
PRODID:Events Booking
BEGIN:VEVENT
UID:69e9eb44d2dfb
SUMMARY:Cineclube Fibra - Orgulho e Preconceito
DESCRIPTION:Em homenagem ao Dia Internacional das Mulheres\, neste mês de 
 março\, o Cineclube Fibra exibirá o filme Orgulho e Preconceito\, adapta
 ção cinematográfica do romance homônimo\, de autoria da escritora brit
 ânica Jane Austen.
 &nbsp\;
 Evento aberto ao público externo.
DTSTART:20230325T190000Z
DTEND:20230325T220000Z
DTSTAMP:20230319T222656Z
ORGANIZER;CN=Portal de Eventos - Centro Universitário Fibra:MAILTO:eventos
 @fibrapara.edu.br
END:VEVENT
END:VCALENDAR