BEGIN:VCALENDAR
VERSION:2.0
PRODID:Events Booking
BEGIN:VEVENT
UID:69e9ff274500b
SUMMARY:Cineclube Fibra - Preciosa
DESCRIPTION:A última sessão do Cineclube Fibra do ano exibirá o filme \"
 Preciosa\". Aclamado pelo público e pela crítica especializada\, \"Preci
 osa\" garantiu o Oscar de Melhor Atriz Coadjuvante para Mo'Nique. Ambienta
 do no Harlem\, em 1987\, Preciosa conta a história de Claireece \"Preciou
 s\" Jones\, uma jovem de 16 anos que enfrenta uma vida repleta de abusos e
  dificuldades. Grávida pela segunda vez de seu próprio pai e vivendo sob
  o domínio de sua mãe abusiva\, Precious luta para encontrar seu valor e
 m meio a tanto sofrimento. Quando recebe a chance de frequentar uma escola
  alternativa\, ela descobre uma nova possibilidade de vida com o apoio de 
 uma professora dedicada e amigos que a ajudam a redescobrir sua voz e dign
 idade. O filme aborda temas intensos de abuso\, superação e autodescober
 ta\, trazendo uma poderosa mensagem de resiliência e esperança.
 
LOCATION:Av. Gentil Bittencourt\, 1144.
DTSTART:20241123T190000Z
DTEND:20241123T220000Z
DTSTAMP:20241121T181937Z
ORGANIZER;CN=Portal de Eventos - Centro Universitário Fibra:MAILTO:eventos
 @fibrapara.edu.br
GEO:-1.455183;-48.482397
X-APPLE-STRUCTURED-LOCATION;VALUE=URI;X-ADDRESS=Av. Gentil Bittencourt\, 11
 44.;X-APPLE-RADIUS=72;X-TITLE=Centro Universitário Fibra:-1.455183;-48.48
 2397
END:VEVENT
END:VCALENDAR