BEGIN:VCALENDAR
VERSION:2.0
PRODID:Events Booking
BEGIN:VEVENT
UID:69e9fe760d87a
SUMMARY:Cineclube - O Dilema das Redes
DESCRIPTION:\"O Dilema das Redes\"&nbsp\;é um documentário impactante que
  expõe os bastidores das grandes empresas de tecnologia e o impacto das r
 edes sociais na sociedade. Dirigido por Jeff Orlowski\, o filme apresenta 
 depoimentos de ex-executivos do Google\, Facebook\, Twitter e outras gigan
 tes do setor\, revelando como algoritmos manipulam o comportamento dos usu
 ários\, influenciam eleições\, aumentam a polarização e afetam a saú
 de mental. Com uma abordagem crítica e instigante\, o documentário alert
 a para os perigos da hiperconectividade e do uso desenfreado de dados pess
 oais\, provocando reflexões sobre privacidade\, ética digital e os desaf
 ios da era da informação.
 O&nbsp\;Cineclube&nbsp\;Fibra é uma ativida
 de do Programa de Extensão \"Fibra\, Arte &amp\; Cultura\"\, que promove 
 a exibição de filmes voltados para toda a comunidade acadêmica\, assim 
 como para a sociedade em geral. A entrada é franca.
 
LOCATION:Av. Gentil Bittencourt\, 1144.
DTSTART:20250322T190000Z
DTEND:20250322T210000Z
DTSTAMP:20250318T141821Z
ORGANIZER;CN=Portal de Eventos - Centro Universitário Fibra:MAILTO:eventos
 @fibrapara.edu.br
GEO:-1.455183;-48.482397
X-APPLE-STRUCTURED-LOCATION;VALUE=URI;X-ADDRESS=Av. Gentil Bittencourt\, 11
 44.;X-APPLE-RADIUS=72;X-TITLE=Centro Universitário Fibra:-1.455183;-48.48
 2397
END:VEVENT
END:VCALENDAR