BEGIN:VCALENDAR
VERSION:2.0
PRODID:Events Booking
BEGIN:VEVENT
UID:69e9fdb932abb
SUMMARY:Cineclube Fibra - A Caça
DESCRIPTION:O&nbsp\;Cineclube&nbsp\;Fibra do mês de junho apresentará mai
 s uma Sessão Psi. O filme exibido será o aclamado \"A Caça\"\, com Mads
  Mikkelsen\, dirigido por Thomas Vinterberg. Após a exibição\, o profes
 sor Ronildo Silva\, docente do curso de Psicologia do Centro Universitári
 o Fibra\, conversará com o público presente sobre as temáticas abordada
 s no filme.
 
LOCATION:Av. Gentil Bittencourt\, 1144.
DTSTART:20240601T190000Z
DTEND:20240601T210000Z
DTSTAMP:20240529T171529Z
ORGANIZER;CN=Portal de Eventos - Centro Universitário Fibra:MAILTO:eventos
 @fibrapara.edu.br
GEO:-1.455183;-48.482397
X-APPLE-STRUCTURED-LOCATION;VALUE=URI;X-ADDRESS=Av. Gentil Bittencourt\, 11
 44.;X-APPLE-RADIUS=72;X-TITLE=Centro Universitário Fibra:-1.455183;-48.48
 2397
END:VEVENT
END:VCALENDAR