BEGIN:VCALENDAR
VERSION:2.0
PRODID:Events Booking
BEGIN:VEVENT
UID:69e9fe11a4dd5
SUMMARY:Cineclube Fibra - Bacurau
DESCRIPTION:O Cineclube Fibra do mês de abril exibirá o premiado filme na
 cional \"Bacurau\". Após a exibição\, a Profa. Dra. Dayseane Ferraz\,&n
 bsp\; historiadora\, antropóloga&nbsp\; e docente do Centro Universitári
 o Fibra conversará com o público sobre as temáticas abordadas no filme.
 
 
LOCATION:Av. Gentil Bittencourt\, 1144.
DTSTART:20240427T190000Z
DTEND:20240427T220000Z
DTSTAMP:20240423T021801Z
ORGANIZER;CN=Portal de Eventos - Centro Universitário Fibra:MAILTO:eventos
 @fibrapara.edu.br
GEO:-1.455183;-48.482397
X-APPLE-STRUCTURED-LOCATION;VALUE=URI;X-ADDRESS=Av. Gentil Bittencourt\, 11
 44.;X-APPLE-RADIUS=72;X-TITLE=Centro Universitário Fibra:-1.455183;-48.48
 2397
END:VEVENT
END:VCALENDAR