BEGIN:VCALENDAR
VERSION:2.0
PRODID:Events Booking
BEGIN:VEVENT
UID:69e9eabe53a62
SUMMARY:Cineclube Fibra - Dançando no Escuro
DESCRIPTION:O Cineclube Fibra de abril está muito especial! Teremos a noss
 a primeira Sessão Psi\, pensada juntamente com o curso de Psicologia do C
 entro Universitário Fibra. Para inaugurar essa parceria de sucesso\, o fi
 lme escolhido foi Dançando no Escuro\,&nbsp\;dirigido por Lars von Trier 
 e estrelado por Björk e Catherine Deneuve. Após a exibição\, o Prof. D
 r. Ronildo Silva\, docente do curso de Psicologia do Centro Universitário
  Fibra\,&nbsp\;conversará com o público presente sobre as temáticas abo
 rdadas no filme.
 &nbsp\;
 Evento aberto ao público externo.
LOCATION:Av. Gentil Bittencourt\, 1144.
DTSTART:20230506T190000Z
DTEND:20230506T210000Z
DTSTAMP:20230420T214747Z
ORGANIZER;CN=Portal de Eventos - Centro Universitário Fibra:MAILTO:eventos
 @fibrapara.edu.br
GEO:-1.455183;-48.482397
X-APPLE-STRUCTURED-LOCATION;VALUE=URI;X-ADDRESS=Av. Gentil Bittencourt\, 11
 44.;X-APPLE-RADIUS=72;X-TITLE=Centro Universitário Fibra:-1.455183;-48.48
 2397
END:VEVENT
END:VCALENDAR