BEGIN:VCALENDAR
VERSION:2.0
PRODID:Events Booking
BEGIN:VEVENT
UID:69e9fe11f26e6
SUMMARY:Ciência com Tacacá - Curso de atualização: Laserterapia
DESCRIPTION:A laserterapia é um tratamento incorporado como instrumento te
 rapêutico voltado para tratar de lesões que acomete esse órgão\, nisso
 \, os lasers podem ser utilizados nas lesões na forma de alta potência\,
  ou seja\, com seu potencial de ação mais destrutivo e também podem ser
  usados na forma de baixa potência\, que nada mais é a aplicação de la
 ser sem potencial destrutivo\, ambas objetivando o fim terapêutico deseja
 do\, que é o tratamento e recuperações das lesões de pele. Por meio de
 ssa produção\, objetiva-se compreender a laserterapia no tratamento de f
 eridas como sendo uma nova prática em enfermagem essencial na assistênci
 a aos pacientes portadores de feridas agudas e crônicas.
 
LOCATION:Av. Gentil Bittencourt\, 1144.
DTSTART:20240516T190000Z
DTEND:20240516T210000Z
DTSTAMP:20240326T200612Z
ORGANIZER;CN=Portal de Eventos - Centro Universitário Fibra:MAILTO:eventos
 @fibrapara.edu.br
GEO:-1.455183;-48.482397
X-APPLE-STRUCTURED-LOCATION;VALUE=URI;X-ADDRESS=Av. Gentil Bittencourt\, 11
 44.;X-APPLE-RADIUS=72;X-TITLE=Centro Universitário Fibra:-1.455183;-48.48
 2397
END:VEVENT
END:VCALENDAR