BEGIN:VCALENDAR
VERSION:2.0
PRODID:Events Booking
BEGIN:VEVENT
UID:69e93323e28c9
SUMMARY:Oficina Teórica-prática de Baciloscopia
DESCRIPTION:Curso teórico abordando conceitos de Reumatologia\, principais
  doenças\, avaliação do paciente reumatológico\, principais práticas 
 de reabilitação baseadas em evidências em reumatologia.
 &nbsp\;
 O c
 urso somente será ofertado se for alcançado o preenchimento mínimo de 1
 5 inscrições.
 &nbsp\;
 Evento aberto ao público externo.
LOCATION:Av. Gentil Bittencourt\, 1144.
DTSTART:20230325T123000Z
DTEND:20230325T140000Z
DTSTAMP:20230302T232354Z
ORGANIZER;CN=Portal de Eventos - Centro Universitário Fibra:MAILTO:eventos
 @fibrapara.edu.br
GEO:-1.455183;-48.482397
X-APPLE-STRUCTURED-LOCATION;VALUE=URI;X-ADDRESS=Av. Gentil Bittencourt\, 11
 44.;X-APPLE-RADIUS=72;X-TITLE=Centro Universitário Fibra:-1.455183;-48.48
 2397
END:VEVENT
END:VCALENDAR