BEGIN:VCALENDAR
VERSION:2.0
PRODID:Events Booking
BEGIN:VEVENT
UID:69e798615f49b
SUMMARY:Ciclo de Palestras: Interfaces entre Saúde Mental e Educação
DESCRIPTION:
LOCATION:Av. Gentil Bittencourt\, 1144.
DTSTART:20260425T200000Z
DTEND:20260523T220000Z
DTSTAMP:20260417T002450Z
ORGANIZER;CN=Portal de Eventos - Centro Universitário Fibra:MAILTO:eventos
 @fibrapara.edu.br
GEO:-1.455183;-48.482397
X-APPLE-STRUCTURED-LOCATION;VALUE=URI;X-ADDRESS=Av. Gentil Bittencourt\, 11
 44.;X-APPLE-RADIUS=72;X-TITLE=Centro Universitário Fibra:-1.455183;-48.48
 2397
END:VEVENT
END:VCALENDAR