BEGIN:VCALENDAR
VERSION:2.0
PRODID:Events Booking
BEGIN:VEVENT
UID:69e9e5f490e28
SUMMARY:Ciclo de Palestras
DESCRIPTION:Palestra \"Você sabe interpretar laudo de toxicologia forense?
 \"Prof. Luiz Walter Carvalho de Souza
 &nbsp\;
 Palestra \"A imprescindi
 bilidade da prova pericial nos crimes de drogas: apontamentos do papel do 
 juiz na aferição\"Dr.&nbsp\;Líbio Araújo Moura\, juiz de Direito e Pre
 sidente da AMEPA
LOCATION:Av. Gentil Bittencourt\, 1144.
DTSTART:20230807T210000Z
DTEND:20230807T230000Z
DTSTAMP:20230706T160506Z
ORGANIZER;CN=Portal de Eventos - Centro Universitário Fibra:MAILTO:eventos
 @fibrapara.edu.br
GEO:-1.455183;-48.482397
X-APPLE-STRUCTURED-LOCATION;VALUE=URI;X-ADDRESS=Av. Gentil Bittencourt\, 11
 44.;X-APPLE-RADIUS=72;X-TITLE=Centro Universitário Fibra:-1.455183;-48.48
 2397
END:VEVENT
END:VCALENDAR