BEGIN:VCALENDAR
VERSION:2.0
PRODID:Events Booking
BEGIN:VEVENT
UID:69e9323894672
SUMMARY:Curso de Injetáveis - Acesso Venoso Jugular
DESCRIPTION:O curso\, que contará com prática de punção da veia jugular
  externa\, permitirá ao aluno aprimorar conhecimentos e habilidades na ex
 ecução do preparo de medicamentos e das técnicas de administração de&
 nbsp\;injetáveis&nbsp\;de&nbsp\;maneira a assegurar os princípios de est
 erilidade\, assistência livre de riscos e&nbsp\;segura ao paciente atendi
 do.O curso tem como objetivos aprimorar o conhecimento sobre&nbsp\;injetá
 veis\; mostrar as técnicas de cada uma das vias de administração que en
 globam os&nbsp\;injetáveis\; entender e aplicar as particularidades de ca
 da uma das vias\, sempre visando\, acima de tudo\, à segurança do pacien
 te e do profissional\; e entender a importância da legislação e da éti
 ca na prática de&nbsp\;injetáveis.
 Alerta de Biossegurança:- O curso 
 só é permitido para maiores de 18 anos\;- O aluno deve estar de calça c
 omprida e sapatos fechados (tênis ou bota\, não pode ser sapatilha)\;- P
 ortar o jaleco\;- Unhas curtas\;- Cabelos presos\;- Evite acessórios.
 &
 nbsp\;
 O curso somente será ofertado se for alcançado o preenchimento 
 mínimo de 15 inscrições.
 &nbsp\;
 Evento aberto ao público externo.
LOCATION:Av. Gentil Bittencourt\, 1144.
DTSTART:20230325T120000Z
DTEND:20230325T150000Z
DTSTAMP:20230302T232354Z
ORGANIZER;CN=Portal de Eventos - Centro Universitário Fibra:MAILTO:eventos
 @fibrapara.edu.br
GEO:-1.455183;-48.482397
X-APPLE-STRUCTURED-LOCATION;VALUE=URI;X-ADDRESS=Av. Gentil Bittencourt\, 11
 44.;X-APPLE-RADIUS=72;X-TITLE=Centro Universitário Fibra:-1.455183;-48.48
 2397
END:VEVENT
END:VCALENDAR