BEGIN:VCALENDAR
VERSION:2.0
PRODID:Events Booking
BEGIN:VEVENT
UID:69e9fdb961d03
SUMMARY:NOÇÕES BÁSICAS DE CENTRAL DE MATERIAL DE ESTERILIZAÇÃO - NOITE
DESCRIPTION:Unidade funcional de apoio técnico\, responsável pelo process
 amento de produtos para a saúde em serviços de saúde\, nessa palestra i
 remos conhecer os processos de trabalho e a importância para a enfermagem
 .
 
LOCATION:Av. Gentil Bittencourt\, 1144.
DTSTART:20240521T210000Z
DTEND:20240521T220000Z
DTSTAMP:20240515T224856Z
ORGANIZER;CN=Portal de Eventos - Centro Universitário Fibra:MAILTO:eventos
 @fibrapara.edu.br
GEO:-1.455183;-48.482397
X-APPLE-STRUCTURED-LOCATION;VALUE=URI;X-ADDRESS=Av. Gentil Bittencourt\, 11
 44.;X-APPLE-RADIUS=72;X-TITLE=Centro Universitário Fibra:-1.455183;-48.48
 2397
END:VEVENT
END:VCALENDAR