BEGIN:VCALENDAR
VERSION:2.0
PRODID:Events Booking
BEGIN:VEVENT
UID:69eb4dd356fdc
SUMMARY:Capacitação Profissional em Atendimento Nutricional 
DESCRIPTION:Curso de Extensão Capacitação Profissional em Atendimento Nu
 tricional – Da Organização ao Acompanhamento
 Com o objetivo de prepa
 rar acadêmicos e nutricionistas para atuação prática segura\, ética e
  estratégica no consultório\, indo além da prescrição alimentar tradi
 cional\, o curso abordará todas as etapas do atendimento nutricional\, de
 sde a organização inicial e estruturação do consultório\, passando pe
 la condução da primeira consulta\, avaliação nutricional e construçã
 o de planos alimentares individualizados\, até estratégias de acompanham
 ento\, adesão e fidelização de pacientes.
 Diferentemente de abordagen
 s exclusivamente teóricas\, a capacitação enfatizará a aplicação pr
 ática\, a tomada de decisão clínica\, a adaptação à realidade do pac
 iente e o desenvolvimento de habilidades comportamentais e de comunicaçã
 o\, fundamentais para o sucesso no atendimento. Além disso\, serão traba
 lhados aspectos essenciais muitas vezes ignorados pelos atuantes\, como do
 cumentação profissional (contratos\, prontuários e recibos)\, posiciona
 mento no mercado\, captação de pacientes e organização do processo de 
 atendimento.
 O Curso só terá início quando atingir o número mínimo 
 de 25 inscritos
 
 &nbsp\;
DTSTART:20260606T120000Z
DTEND:20260606T200000Z
DTSTAMP:20260424T021058Z
ORGANIZER;CN=Portal de Eventos - Centro Universitário Fibra:MAILTO:eventos
 @fibrapara.edu.br
END:VEVENT
END:VCALENDAR