BEGIN:VCALENDAR
VERSION:2.0
PRODID:Events Booking
BEGIN:VEVENT
UID:69e92f3f38d58
SUMMARY:Submissão de trabalhos científicos
DESCRIPTION:Submissão de trabalhos científicos para o I Congresso Amazôn
 ico de Medicina e Inovação em Saúde.
 NORMAS PARA O ENVIO DE RESUMOS D
 E TRABALHO:
 
 As submissões dos resumos serão realizadas exclusivamen
 te&nbsp\;por meio do link disponível no Portal de Eventos do Centro Unive
 rsitário Fibra: https://fibrapara.net/eventos\;
 Há cinco categorias de
  classificação para os resumos\, devendo eleger uma destas: Ensino\, Ext
 ensão\, Pesquisa\, Relato de experiência e Revisão bibliográfica
 Tod
 os os resumos serão apresentados em formato pôster\;
 Os resumos devem 
 ser submetidos de acordo com as regras a seguir:
 
 1) O texto deverá s
 er escrito de acordo com as norma culta gramatical da Língua Portuguesa\;
  fonte: Arial\, tamanho: 12\, espaçamento: 1\,5.
 2) A estrutura dos res
 umos das categorias ensino\, pesquisa e extensão deve contemplar os segui
 ntes itens: introdução\, objetivos\, métodos\, resultados e conclusão\
 , com o mínimo de 230 e máximo de 580 palavras\, e apresentar três (3) 
 descritores/palavras chaves.
 3) A estrutura dos resumos das categorias r
 elato de experiência e revisão bibliográfica deve ser no formato de res
 umo expandido\, informativo\, contendo introdução\, objetivos\, relato d
 a experiência descrevendo o contexto\, sujeitos envolvidos e principais e
 tapas\, resultados\, conclusão. Ter até cinco (5) referências bibliogr
 áficas com mínimo de 1030 e máximo de 1330 palavras e apresentar três 
 (3) descritores/palavras chaves.
 4) A totalidade de palavras do resumo i
 ncluirá o título\, os nomes dos autores\, o e-mail do autor corresponden
 te e os descritores\;
 5) Título: em letras maiúsculas.
 6) Informaç
 ões sobre os autores: nome completo\, formação\, titulação e institui
 ção de vínculo acadêmico e/ou profissional atual.
 7) O e-mail do aut
 or correspondente (ou principal) deve ser inserido. É facultado ao autor 
 que submeter o trabalho ser o autor principal.
 8) Cada trabalho deverá 
 ter no máximo 8 (oito) autores sendo obrigatória a participação de um 
 orientador de nível superior.
 
 Outras orientações:
 
 1) Cada con
 gressista\, independentemente da categoria\, terá direito à submissão d
 e no máximo 2 (dois) trabalhos como autor principal. Entretanto\, sua par
 ticipação como co-autor é ilimitada.
 2) O conteúdo dos trabalhos sub
 metidos serão de responsabilidade do(s) autor(es).
 3) Todos os resumos 
 aprovados serão publicados nos Anais do congresso.
 4) Trabalhos que nã
 o atendam às regras de submissão não serão aceitos no evento.
 5) Nã
 o haverá possibilidade de reedição do trabalho após o envio.
 6) Todo
 s os certificados serão disponibilizados em até 30 dias após o término
  do evento
 
 Avaliação dos trabalhos:
 
 Será realizada por uma co
 missão cientifica com expertise nas áreas temáticas\, que levará em co
 nsideração:
 a) Relevância cientifica
 b) Cumprimento das regras orie
 ntadas quanto a: estruturação\, formatação e vínculo com a área tem
 ática escolhida\;
 c) O conteúdo deve apresentar coerência teórica e 
 metodológica\, encadeamento lógico entre as partes do resumo\, tornando 
 a totalidade do texto consistente e compreensível para o leitor\;
 d) Se
 rão classificados em duas categorias: aptos e inaptos. Não serão divulg
 adas informações avaliativas\, tanto em caso de aprovação como de repr
 ovação. Será assegurado o anonimato dos autores e avaliadores dos traba
 lhos\;
 e) O(s) nome(s) do(s) autor(es) deve(m) ser preenchido(s) por com
 pleto\, de forma correta (tanto a grafia quanto a ordem de autoria)\, pois
  será(ão) utilizado(s) para a confecção do(s) certificado(s)\;
 f) &n
 bsp\;É de responsabilidade dos autores dos resumos a revisão textual com
 pleta.
 
 Não serão aceitos quaisquer pedidos de correção após o t
 érmino do período de submissão.
 
 &nbsp\;
 FORMAS DE APRESENTAÇÃO
  DOS TRABALHOS APROVADOS:
 
 Serão apresentados somente na forma de pô
 ster. Em etapa posterior\, logo após os resultados de aprovação\, os au
 tores receberão orientações quanto ao envio do formato final de apresen
 tação/exposição. Os trabalhos aprovados serão considerados previament
 e avaliados\, portanto\, não haverá agendamento de visitação\, sendo e
 sta uma exposição permanente em totens\, disponível durante todo o per
 íodo do evento.
 
 &nbsp\;
 AVALIAÇÃO PARA PREMIAÇÃO 
 A premiaç
 ão será em certificação para os cinco melhores trabalhos. Será realiz
 ada por uma comissão que levará em conta:
 
 A coerência com o tema c
 entral do evento do congresso\;
 A relevância cientifica do tema\;
 Met
 odologia científica utilizada e sua adequação ao trabalho\;
 Clareza e
  correção da linguagem\;
 Conclusões e aplicabilidade prática.
 
 &
 nbsp\;
 ENTREGA DO PRÊMIO
 A Comissão Executiva do I Congresso Amazôn
 ico de Medicina e Inovação em Saúde fará entrega de certificados e pre
 miação aos autores dos 5 melhores trabalhos.
 &nbsp\;
 &nbsp\;
 CLIQU
 E AQUI PARA FAZER O DOWNLOAD DO TEMPLATE DE RESUMO
LOCATION:Av. Gentil Bittencourt\, 1144.
DTSTART:20230818T110000Z
DTEND:20230601T025500Z
DTSTAMP:20230204T010047Z
ORGANIZER;CN=Portal de Eventos - Centro Universitário Fibra:MAILTO:eventos
 @fibrapara.edu.br
GEO:-1.455183;-48.482397
X-APPLE-STRUCTURED-LOCATION;VALUE=URI;X-ADDRESS=Av. Gentil Bittencourt\, 11
 44.;X-APPLE-RADIUS=72;X-TITLE=Centro Universitário Fibra:-1.455183;-48.48
 2397
END:VEVENT
END:VCALENDAR