BEGIN:VCALENDAR
VERSION:2.0
PRODID:Events Booking
BEGIN:VEVENT
UID:69e9318ab81bd
SUMMARY:Acupuntura e técnicas associadas em urgência e emergência
DESCRIPTION:PROGRAMAÇÃO
 14-14:50Tema: Acupuntura em situações de urg
 ência e emergênciaPalestrantes: Isabela Cunha e Ana Julia Lima
 14:50-1
 5-35Tema: Auriculoterapia e situações de urgência e emergênciaPalestra
 ntes: Diego Castro e Eduardo Motta
 15:35-16:20Tema: Acupuntura Coreana d
 a Mão em situações de urgência e emergênciaPalestrantes: João Felipe
  Marça e Flávio Nascimento
LOCATION:Av. Gentil Bittencourt\, 1144.
DTSTART:20230812T170000Z
DTEND:20230812T192000Z
DTSTAMP:20230204T010047Z
ORGANIZER;CN=Portal de Eventos - Centro Universitário Fibra:MAILTO:eventos
 @fibrapara.edu.br
GEO:-1.455183;-48.482397
X-APPLE-STRUCTURED-LOCATION;VALUE=URI;X-ADDRESS=Av. Gentil Bittencourt\, 11
 44.;X-APPLE-RADIUS=72;X-TITLE=Centro Universitário Fibra:-1.455183;-48.48
 2397
END:VEVENT
END:VCALENDAR