BEGIN:VCALENDAR
VERSION:2.0
PRODID:Events Booking
BEGIN:VEVENT
UID:69e8d742258ad
SUMMARY:CADEIA PRODUTIVA DO MEL
DESCRIPTION:No dia 8 de março de 2024 às 10:00 horas\, vamos ter uma pale
 stra com a zootecnista e Mestra em Ciência Animal Agatha Guelreth Farias 
 de Souza para falar sobre as principais temáticas da Cadeia produtiva do 
 Mel. A palestra irá abordar sobre a biologia das abelhas\, equipamentos d
 e manejo\, componentes físico-químicos do mel\, projetos educacionais co
 m abelhas e desempenho dos produtores rurais da cadeia produtiva do mel. O
  evento será um espaço de debates e aprofundamento do conhecimento a res
 peito da importância da criação de abelhas e das atividades econômicas
  oriundas dessa criação.
 
LOCATION:Av. Gentil Bittencourt\, 1144.
DTSTART:20240308T130000Z
DTEND:20240308T150000Z
DTSTAMP:20240227T221817Z
ORGANIZER;CN=Portal de Eventos - Centro Universitário Fibra:MAILTO:eventos
 @fibrapara.edu.br
GEO:-1.455183;-48.482397
X-APPLE-STRUCTURED-LOCATION;VALUE=URI;X-ADDRESS=Av. Gentil Bittencourt\, 11
 44.;X-APPLE-RADIUS=72;X-TITLE=Centro Universitário Fibra:-1.455183;-48.48
 2397
END:VEVENT
END:VCALENDAR