BEGIN:VCALENDAR
VERSION:2.0
PRODID:Events Booking
BEGIN:VEVENT
UID:69e81b70484ff
SUMMARY:Aula Magna - Cadeia de custódia de provas: atual entendimento do S
 TJ em relação às provas digitais
DESCRIPTION:Participe da&nbsp\;Aula Magna da Pósgraduação em Direito Pen
 al e Direito Processual Penal\, com a palestra \"Cadeia de custódia de pr
 ovas: atual entendimento do STJ em relação às provas digitais\" ministr
 ada pelo Prof. Antônio Campêlo.
 
LOCATION:Av. Gentil Bittencourt\, 1144.
DTSTART:20250208T120000Z
DTEND:20250208T140000Z
DTSTAMP:20250206T200807Z
ORGANIZER;CN=Portal de Eventos - Centro Universitário Fibra:MAILTO:eventos
 @fibrapara.edu.br
GEO:-1.455183;-48.482397
X-APPLE-STRUCTURED-LOCATION;VALUE=URI;X-ADDRESS=Av. Gentil Bittencourt\, 11
 44.;X-APPLE-RADIUS=72;X-TITLE=Centro Universitário Fibra:-1.455183;-48.48
 2397
END:VEVENT
END:VCALENDAR