BEGIN:VCALENDAR
VERSION:2.0
PRODID:Events Booking
BEGIN:VEVENT
UID:69e9fe1c6318a
SUMMARY:Aula Inaugural do Curso de Enfermagem sobre Reanimação Cardiopulm
 onar em Adultos (RCP)
DESCRIPTION:Inscrição Solidária: 1kg alimento não perecível
 Objetivo
 :&nbsp\;&nbsp\;A parada cardiorrespiratória (PCR) é a ausência de ativi
 dade mecânica cardíaca e ocorre em cerca de 200.000 casos anualmente no 
 Brasil\, sendo tratada por meio de ressuscitação cardiopulmonar (RCP) qu
 e envolve manobras para manter a circulação. O atendimento adequado depe
 nde da colaboração entre múltiplos profissionais de saúde e do reconhe
 cimento rápido da PCR\, seguido pela realização de compressões toráci
 cas e ventilação imediata. Diagnósticos e interações para causas subj
 acentes precisam ser rapidamente identificados para melhorar as chances de
  sobrevivência e recuperação do paciente.
 
 &nbsp\;
LOCATION:Av. Gentil Bittencourt\, 1144.
DTSTART:20250804T113000Z
DTEND:20250804T130000Z
DTSTAMP:20250725T040057Z
ORGANIZER;CN=Portal de Eventos - Centro Universitário Fibra:MAILTO:eventos
 @fibrapara.edu.br
GEO:-1.455183;-48.482397
X-APPLE-STRUCTURED-LOCATION;VALUE=URI;X-ADDRESS=Av. Gentil Bittencourt\, 11
 44.;X-APPLE-RADIUS=72;X-TITLE=Centro Universitário Fibra:-1.455183;-48.48
 2397
END:VEVENT
END:VCALENDAR