BEGIN:VCALENDAR
VERSION:2.0
PRODID:Events Booking
BEGIN:VEVENT
UID:69e9febd5ca57
SUMMARY:AULA INAUGURAL EM SUPORTE BÁSICO DE VIDA PARA ENFERMAGEM
DESCRIPTION:No dia&nbsp\;20 de agosto de 2024&nbsp\;teremos a&nbsp\;AULA IN
 AUGURAL EM SUPORTE BÁSICO DE VIDA PARA ENFERMAGEM&nbsp\;\, para&nbsp\;Ate
 ndimento de Urgência/Emergência no âmbito&nbsp\;intrahospitalar&nbsp\;p
 acientes em PCR&nbsp\; .
 O atendimento&nbsp\;da&nbsp\;PCR&nbsp\;pelo enf
 ermeiro é realizado por meio das manobras básicas de ressuscitação car
 diopulmonar (RCP) também conhecidas como Suporte Básico de Vida\, visand
 o manter ou recuperar\, artificialmente\, as funções respiratória e cir
 culatória.
 Inscrição solidária:&nbsp\;1kg de alimento não perecíve
 l.&nbsp\;
 
LOCATION:Av. Gentil Bittencourt\, 1144.
DTSTART:20240820T130000Z
DTEND:20240820T150000Z
DTSTAMP:20240802T174549Z
ORGANIZER;CN=Portal de Eventos - Centro Universitário Fibra:MAILTO:eventos
 @fibrapara.edu.br
GEO:-1.455183;-48.482397
X-APPLE-STRUCTURED-LOCATION;VALUE=URI;X-ADDRESS=Av. Gentil Bittencourt\, 11
 44.;X-APPLE-RADIUS=72;X-TITLE=Centro Universitário Fibra:-1.455183;-48.48
 2397
END:VEVENT
END:VCALENDAR