BEGIN:VCALENDAR
VERSION:2.0
PRODID:Events Booking
BEGIN:VEVENT
UID:69e944b2476a3
SUMMARY:Aula Aberta com o Escritor Edyr Augusto Proença - Pssica
DESCRIPTION:No dia 28 de fevereiro\, o escritor paraense Edyr Augusto Proen
 ça\, autor do romance Pssica\, que recentemente foi adaptado para série 
 na Netflix\, participará de um bate-papo sobre literatura\, integrante da
  disciplina Literaturas da Amazônia e suas Interfaces\, do Curso de Pós-
 graduação Ensino-aprendizagem de Língua Portuguesa e suas Práticas Lit
 erárias. Participe!
 
LOCATION:Av. Gentil Bittencourt\, 1144.
DTSTART:20260228T180000Z
DTEND:20260228T200000Z
DTSTAMP:20260212T224524Z
ORGANIZER;CN=Portal de Eventos - Centro Universitário Fibra:MAILTO:eventos
 @fibrapara.edu.br
GEO:-1.455183;-48.482397
X-APPLE-STRUCTURED-LOCATION;VALUE=URI;X-ADDRESS=Av. Gentil Bittencourt\, 11
 44.;X-APPLE-RADIUS=72;X-TITLE=Centro Universitário Fibra:-1.455183;-48.48
 2397
END:VEVENT
END:VCALENDAR