BEGIN:VCALENDAR
VERSION:2.0
PRODID:Events Booking
BEGIN:VEVENT
UID:69e9fefc2d03d
SUMMARY: Curso de Atualização sobre Vacinas
DESCRIPTION:Participe do curso de atualização em vacinas!
 Inscrição S
 olidária: entrega de 1 quilo de alimento não perecível na entrada do ev
 ento.
 
LOCATION:Av. Gentil Bittencourt\, 1144.
DTSTART:20240208T130000Z
DTEND:20240208T150000Z
DTSTAMP:20240203T003007Z
ORGANIZER;CN=Portal de Eventos - Centro Universitário Fibra:MAILTO:eventos
 @fibrapara.edu.br
GEO:-1.455183;-48.482397
X-APPLE-STRUCTURED-LOCATION;VALUE=URI;X-ADDRESS=Av. Gentil Bittencourt\, 11
 44.;X-APPLE-RADIUS=72;X-TITLE=Centro Universitário Fibra:-1.455183;-48.48
 2397
END:VEVENT
END:VCALENDAR