BEGIN:VCALENDAR
VERSION:2.0
PRODID:Events Booking
BEGIN:VEVENT
UID:69e907d9c6ccc
SUMMARY:Atualização em Cirurgia Periodontal
DESCRIPTION:O Curso de Extensão Atualização em Cirurgia Periodontal: é 
 voltado para o desenvolvimento técnico\, científico e profissional do al
 uno de graduação\, capacitando-o a se tornar em um cirurgião dentista c
 om conhecimento prático e teórico em diversas áreas da periodontia cir
 úrgica\, abordando as mais modernas e comprovadas técnicas cirúrgicas\,
  usando os melhores biomateriais e instrumentais cirúrgicos e também a l
 aserterapia\, que servirá como coadjuvante nos tratamentos terapêuticos\
 , trans-cirúrgicos e pós-cirúrgicos\, possibilitando\, assim\, sua entr
 ada no mercado de trabalho com maior facilidade por ser um profissional ca
 pacitado e atualizado.
 O curso terá duração de 8 meses. As aulas acon
 tecerão às sextas-feiras e aos sábados.
 &nbsp\;
 Coordenação: Prof
 . Me. Erich Brito Tanaka. Especialista em Periodontia e Mestre em Clínica
  Odontológica.
 Professores:
 
 Me. Erich Brito Tanaka. Especialista e
 m Periodontia e Mestre em Clínica Odontológica.
 Dr. Ricardo Roberto de
  Souza Fonseca. Especialista em Periodontia\; Mestre em Clínica Odontoló
 gica com ênfase em periodontia\; Doutor em virologia\; PhD em virologia.
 
 
 Público: Alunos de graduação em Odontologia\, que estejam cursando
  do sexto semestre em diante.
 Investimento:
 
 Taxa de inscrição: R$
  200\,00 (já incluindo o custo do pijama cirúrgico que será usado duran
 te o curso).
 
 Mensalidade:
 
 Alunos do Centro Universitário Fibra:
  R$ 580\,00
 Alunos de outras instituições: R$ 920\,00
 
 Observaçã
 o:
 Após o pagamento da taxa de inscrição e quando alcançado o númer
 o mínimo de alunos para iniciar o curso (10)\, será enviado um e-mail co
 m o link para realizar o pagamento das mensalidades. O pagamento deverá s
 er feito exclusivamente por cartão de crédito\, através da modalidade p
 agamento recorrente\, em 8 (oito) parcelas\, que não compromete o limite 
 do cartão.Após a confirmação do pagamento da primeira mensalidade\, n
 ão haverá a possibilidade de cancelamento e ressarcimento de qualquer va
 lor do curso.
 &nbsp\;
 CALENDÁRIO DE AULAS
 
 ⁠Setembro - 26 e 27 
 (início)
 ⁠Outubro - 24 e 25
 ⁠Novembro 1- 7 e 8
 ⁠Novembro 2- 2
 8 e 29
 ⁠Dezembro - 12 e 13
 ⁠Janeiro - 23 e 24
 ⁠Fevereiro - 20 
 e 21
 ⁠Março - 20 e 21
 
 &nbsp\;
 
LOCATION:Av. Gentil Bittencourt\, 1144.
DTSTART:20250926T030000Z
DTEND:20251010T030000Z
DTSTAMP:20240417T145925Z
ORGANIZER;CN=Portal de Eventos - Centro Universitário Fibra:MAILTO:eventos
 @fibrapara.edu.br
GEO:-1.455183;-48.482397
X-APPLE-STRUCTURED-LOCATION;VALUE=URI;X-ADDRESS=Av. Gentil Bittencourt\, 11
 44.;X-APPLE-RADIUS=72;X-TITLE=Centro Universitário Fibra:-1.455183;-48.48
 2397
END:VEVENT
END:VCALENDAR