BEGIN:VCALENDAR
VERSION:2.0
PRODID:Events Booking
BEGIN:VEVENT
UID:69e9ec0add51c
SUMMARY:Curso de Extensão \"Atualização em feridas e curativos para Enfe
 rmagem\"
DESCRIPTION:Curso teórico e prático que objetiva apresentar os tipos de c
 oberturas existentes\, suas indicações e contraindicações\, capacitand
 o o aluno a reconhecer o tipo de tecido da ferida presente no leito e\, a 
 partir desse ponto\, decidir qual a cobertura ideal para o tratamento. O a
 luno receberá o certificado do Curso de Atualização Feridas e Curativos
 \, com certificação individual de procedimento em curativo complexo
 &n
 bsp\;
 &nbsp\;
 
DTSTART:20230930T110000Z
DTEND:20230930T190000Z
DTSTAMP:20230908T162316Z
ORGANIZER;CN=Portal de Eventos - Centro Universitário Fibra:MAILTO:eventos
 @fibrapara.edu.br
END:VEVENT
END:VCALENDAR