BEGIN:VCALENDAR
VERSION:2.0
PRODID:Events Booking
BEGIN:VEVENT
UID:69e9e9b417a58
SUMMARY:Atualização em Vacinas: Curso Pré-Evento – Semana da Enfermage
 m 2026
DESCRIPTION:Você está preparado para os novos desafios da imunização?

  Dando início às celebrações da&nbsp\;Semana da Enfermagem 2026\, conv
 idamos nossos alunos para um curso prático e intensivo de atualização s
 obre vacinas. Em um cenário de constantes mudanças nos calendários vaci
 nais e surgimento de novas tecnologias em saúde\, manter-se atualizado é
  um dever ético e uma diferencial competitivo para o futuro enfermeiro.

  O curso acontecerá no&nbsp\;Laboratório de Habilidades\, unindo a revis
 ão teórica com a segurança da prática simulada.
 A imunização é um
 a das áreas onde o enfermeiro exerce maior protagonismo e liderança. Nes
 te curso\, vamos abordar:
 
 Atualizações do Calendário Nacional de V
 acinação:&nbsp\;O que mudou para 2026.
 Boas Práticas na Cadeia de Fri
 o:&nbsp\;Conservação e armazenamento.
 Segurança do Paciente:&nbsp\;T
 écnicas de aplicação e redução de eventos adversos.
 Comunicação e
 m Saúde:&nbsp\;Como lidar com a hesitação vacinal na comunidade.
 
 G
 aranta sua vaga!
 As vagas são limitadas para garantir que todos possam 
 aproveitar o espaço do laboratório e tirar dúvidas práticas. Não perc
 a a oportunidade de reforçar seu currículo e chegar na Semana da Enferma
 gem com o conhecimento em dia.
 Atenção:&nbsp\;O uso de jaleco e trajes
  adequados para laboratório é obrigatório durante a atividade.
 
LOCATION:Av. Gentil Bittencourt\, 1144.
DTSTART:20260429T170000Z
DTEND:20260429T200000Z
DTSTAMP:20260410T020714Z
ORGANIZER;CN=Portal de Eventos - Centro Universitário Fibra:MAILTO:eventos
 @fibrapara.edu.br
GEO:-1.455183;-48.482397
X-APPLE-STRUCTURED-LOCATION;VALUE=URI;X-ADDRESS=Av. Gentil Bittencourt\, 11
 44.;X-APPLE-RADIUS=72;X-TITLE=Centro Universitário Fibra:-1.455183;-48.48
 2397
END:VEVENT
END:VCALENDAR