BEGIN:VCALENDAR
VERSION:2.0
PRODID:Events Booking
BEGIN:VEVENT
UID:69e9ebe156ea1
SUMMARY:Curso de Atendimento Pré Hospitalar (APH/BLS)
DESCRIPTION:O Curso de Atendimento Pré Hospitalar (APH/BLS) é utilizado p
 ara treinamento de equipes de profissionais de saúde \, se refere ao aten
 dimento realizado fora do ambiente hospitalar\, em geral em regime de urg
 ência. No caso de pacientes graves\, este atendimento pode ser o diferenc
 ial entre a vida e a morte.
 
LOCATION:Av. Gentil Bittencourt\, 1144.
DTSTART:20231209T110000Z
DTEND:20231209T210000Z
DTSTAMP:20231026T155438Z
ORGANIZER;CN=Portal de Eventos - Centro Universitário Fibra:MAILTO:eventos
 @fibrapara.edu.br
GEO:-1.455183;-48.482397
X-APPLE-STRUCTURED-LOCATION;VALUE=URI;X-ADDRESS=Av. Gentil Bittencourt\, 11
 44.;X-APPLE-RADIUS=72;X-TITLE=Centro Universitário Fibra:-1.455183;-48.48
 2397
END:VEVENT
END:VCALENDAR