BEGIN:VCALENDAR
VERSION:2.0
PRODID:Events Booking
BEGIN:VEVENT
UID:69e9e7776c124
SUMMARY:Curso de Extensão O Exercício Profissional do Assistente Social n
 a Mediação de Conflitos
DESCRIPTION:O curso tem como objetivo analisar o instrumento mediação de 
 conflitos\, utilizado no exercício profissional do Assistente Social\, pa
 ra intervir com e nas relações sociais conflituosas e identificar como s
 e processa a ação do mediador Assistente Social\, auxiliando os sujeitos
  na análise da situação conflituosa e no alcance do entendimento.
 &nb
 sp\;
 Evento aberto ao público externo.
LOCATION:Av. Gentil Bittencourt\, 1144.
DTSTART:20230126T220000Z
DTEND:20230128T010000Z
DTSTAMP:20221230T030920Z
ORGANIZER;CN=Portal de Eventos - Centro Universitário Fibra:MAILTO:eventos
 @fibrapara.edu.br
GEO:-1.455183;-48.482397
X-APPLE-STRUCTURED-LOCATION;VALUE=URI;X-ADDRESS=Av. Gentil Bittencourt\, 11
 44.;X-APPLE-RADIUS=72;X-TITLE=Centro Universitário Fibra:-1.455183;-48.48
 2397
END:VEVENT
END:VCALENDAR