BEGIN:VCALENDAR
VERSION:2.0
PRODID:Events Booking
BEGIN:VEVENT
UID:69ea69a98c9f1
SUMMARY:PALESTRA - O direito de permanecer calado dos agentes de segurança
  pública (PM\, DPC\, DPF\, PRF e guardas municipais) nas inquirições em
  plenário
DESCRIPTION:&nbsp\;
 &nbsp\;
LOCATION:Av. Gentil Bitencourt\, 650
DTSTART:20231024T190000Z
DTEND:20231024T200000Z
DTSTAMP:20230821T061430Z
ORGANIZER;CN=Portal de Eventos - Centro Universitário Fibra:MAILTO:eventos
 @fibrapara.edu.br
GEO:-1.455993;-48.486518
X-APPLE-STRUCTURED-LOCATION;VALUE=URI;X-ADDRESS=Av. Gentil Bitencourt\, 650
 ;X-APPLE-RADIUS=72;X-TITLE=Centur (Centro Cultural e Turístico Tancredo N
 eves):-1.455993;-48.486518
END:VEVENT
END:VCALENDAR