BEGIN:VCALENDAR
VERSION:2.0
PRODID:Events Booking
BEGIN:VEVENT
UID:69ea69cfb2a78
SUMMARY:OFICINA -  Oficina Sistêmica: Peticionamento Humanizado na Área d
 a Família
DESCRIPTION:Evolução Histórica do Direito de Família. A Prática do Pro
 fissional na Área da Família (Tribunal de Justiça\, Ministério Públic
 o e Defensoria Pública). O profissional sistêmico. Principais pontos dos
  Atendimentos de Alimentos\, Parentalidade e União. Prática do Profissio
 nal Sistêmico. Estudo de Casos Práticos na Área da Família.
LOCATION:Av. Gentil Bittencourt\, 1144.
DTSTART:20240913T223000Z
DTEND:20240914T003000Z
DTSTAMP:20240820T233044Z
ORGANIZER;CN=Portal de Eventos - Centro Universitário Fibra:MAILTO:eventos
 @fibrapara.edu.br
GEO:-1.455183;-48.482397
X-APPLE-STRUCTURED-LOCATION;VALUE=URI;X-ADDRESS=Av. Gentil Bittencourt\, 11
 44.;X-APPLE-RADIUS=72;X-TITLE=Centro Universitário Fibra:-1.455183;-48.48
 2397
END:VEVENT
END:VCALENDAR