BEGIN:VCALENDAR
VERSION:2.0
PRODID:Events Booking
BEGIN:VEVENT
UID:69ea69ff093db
SUMMARY:OFICINA - Treinando o Direito Tributário para 1ª e 2ª fases no E
 xame de Ordem
DESCRIPTION:\n\n\n\nSíntese das provas de Direito Tributário dos últimos
  15 Exames\, 1ª e 2ª fases. Técnicas de resolução de questões. Ident
 ificação de peças. Resolução de questões discursivas originais\, ada
 ptadas e inéditas.\n\n\n\n
LOCATION:Av. Gentil Bittencourt\, 1144.
DTSTART:20240911T223000Z
DTEND:20240912T003000Z
DTSTAMP:20240820T233044Z
ORGANIZER;CN=Portal de Eventos - Centro Universitário Fibra:MAILTO:eventos
 @fibrapara.edu.br
GEO:-1.455183;-48.482397
X-APPLE-STRUCTURED-LOCATION;VALUE=URI;X-ADDRESS=Av. Gentil Bittencourt\, 11
 44.;X-APPLE-RADIUS=72;X-TITLE=Centro Universitário Fibra:-1.455183;-48.48
 2397
END:VEVENT
END:VCALENDAR