BEGIN:VCALENDAR
VERSION:2.0
PRODID:Events Booking
BEGIN:VEVENT
UID:69ea2a202a0e6
SUMMARY:Painel 14 – O DIREITO AGRÁRIO: MUDANÇA CLIMÁTICA\, ODS E ESTRU
 TURA EMPRESARIAIS
DESCRIPTION:Painel 14 – O DIREITO AGRÁRIO: MUDANÇA CLIMÁTICA\, ODS E E
 STRUTURA EMPRESARIAIS
 Mediador:
 LA AGRICULTURA FAMILIAR COMO ELEMENTO 
 CLAVE EN EL CUMPLIMIENTO DE LOS ODS Y EN LOS AVANCES DE LA COP HACIA LA JU
 STICIA CLIMÁTICA
 Palestrante: Maria José Cazorla (Espanha)
 &nbsp\;

  FAMILY FARMS IN POLAND - A RESPONSE TO THE CHALLENGE OF CLIMATE CHANGE
 
 Palestrante: Dorota Lobos-Kotowska e Jerzy Bieluk (Polônia)
 &nbsp\;
 I
 N DÉFI DU DROIT RURAL EN FRANCE: LE RENOUVELLEMENT DES GÉNÉRATIONS EN A
 GRICULTURE
 Palestrante: Christine Lebel (França)
 &nbsp\;
 CAUSES AND
  PREVENTION OF AGEING FARMERS IN SLOVAKIA
 Palestrante: Jarmila Laziková
 \, ?ubica Rumanovská e Ivan Taká? (Eslováquia).
 &nbsp\;
 LEGAL AND E
 CONOMIC INSTRUMENTS TO SUPPORT AGRICULTURAL PRODUCERS IN THE FACE OF CRISE
 S AND STREGTHEN THEIR POSITION IN THE SUPPLY CHAIN
 Palestrante: Izabela 
 Lipinska (Polônia)
LOCATION:Hangar Centro de Convenções e Feiras da Amazônia
DTSTART:20240913T130000Z
DTEND:20240913T140000Z
DTSTAMP:20240820T233044Z
ORGANIZER;CN=Portal de Eventos - Centro Universitário Fibra:MAILTO:eventos
 @fibrapara.edu.br
GEO:-1.422834;-48.457339
X-APPLE-STRUCTURED-LOCATION;VALUE=URI;X-ADDRESS=Hangar Centro de Convençõ
 es e Feiras da Amazônia;X-APPLE-RADIUS=72;X-TITLE=Hangar Centro de Conven
 ções & Feiras da Amazônia:-1.422834;-48.457339
END:VEVENT
END:VCALENDAR