BEGIN:VCALENDAR
VERSION:2.0
PRODID:Events Booking
BEGIN:VEVENT
UID:69ea2ab584fd3
SUMMARY:Painel 3 – O DIREITO AMAZÔNICO\, O CLIMA E A  AMAZÔNIA
DESCRIPTION:Mediador: Rodrigo Cerqueira de Miranda\nEL BALANCE MUNDIAL DEL 
 CUMPLIMIENTO DE LOS ACUERDOS DE PARIS COP 28\, CONTRASTADO CON LA MAYOR RE
 SERVA MORAL CLIMÁTICA DE LA HUMANIDAD EN EL TERRITORIO DE LA AMAZONIA COP
  30\n&nbsp\;&nbsp\;&nbsp\;&nbsp\;&nbsp\;&nbsp\;&nbsp\;&nbsp\;&nbsp\;&nbsp\
 ;&nbsp\;&nbsp\;&nbsp\;&nbsp\;&nbsp\;&nbsp\;&nbsp\;&nbsp\;&nbsp\;&nbsp\;&nb
 sp\;&nbsp\;&nbsp\; Palestrante: Mélida Sánchez Herdocia (Nicaragua)\nASP
 ECTOS DA GOVERNANÇA E FINANCIAMENTO CLIMÁTICO NA AMAZÔNIA LEGAL\nPalest
 rante: Priscila Elise Alves Vasconcelos (Brasil)\nTERRITÓRIO E PARCERIAS 
 PARA REDUÇÃO DE EMISSÕES DE GASES DE EFEITO ESTUFA\nPalestrante: Ibraim
  Rocha (Brasil)\nSISTEMAS INTEGRADOS PARA A PRODUÇÃO DE ALIMENTOS NA AMA
 ZÔNIA\nPalestrante: Natalia Guarino Souza Barbosa (Brasil)\nMERCADO VOLUN
 TÁRIO DO CRÉDITO DE CARBONO E PROTEÇÃO DOS TERRITÓRIOS TRADICIONAIS N
 O BRASIL\nPalestrante: Andrea Macedo Barreto (Brasil)
LOCATION:Hangar Centro de Convenções e Feiras da Amazônia
DTSTART:20240911T143000Z
DTEND:20240911T153000Z
DTSTAMP:20240820T233044Z
ORGANIZER;CN=Portal de Eventos - Centro Universitário Fibra:MAILTO:eventos
 @fibrapara.edu.br
GEO:-1.422834;-48.457339
X-APPLE-STRUCTURED-LOCATION;VALUE=URI;X-ADDRESS=Hangar Centro de Convençõ
 es e Feiras da Amazônia;X-APPLE-RADIUS=72;X-TITLE=Hangar Centro de Conven
 ções & Feiras da Amazônia:-1.422834;-48.457339
END:VEVENT
END:VCALENDAR