BEGIN:VCALENDAR
VERSION:2.0
PRODID:Events Booking
BEGIN:VEVENT
UID:69ea5408e95f6
SUMMARY:Palestra de Abertura e Painel 1 - DIREITO AMAZÔNICO: REALIDADE DA 
 AMAZÔNIA
DESCRIPTION:09h - Palestras de Abertura do V Congresso Internacional de Dir
 eito Amazônico
 OS PRINCÍPIOS DO DIREITO AMAZÔNICO E A COMUNIDADE LOCA
 L NATIVA DA AMAZÔNIA - O CABOCO: PERSPECTIVA À COP 30
 Palestrante: Gur
 sen De Miranda (Brasil)
 Painel 1 – DIREITO AMAZÔNICO: REALIDADE DA AM
 AZÔNIA
 Mediador:
 ECOTURISMO: UMA PROPOSTA&nbsp\; DE DESENVOLVIMENTO S
 USTENTÁVEL PARA A AMAZÔNIA
 Palestrante: Antônio José de Mattos Neto 
 (Brasil)
 SETE SONHOS ESTRUTURANTES PARA A AMAZÔNIA
 Palestrante: José
  Maria da Costa Mendonça (Brasil)
 ASPECTOS JURÍDICOS DA NAVEGAÇÃO NA
  AMAZÔNIA E O DESENVOLVIMENTO SUSTENTÁVEL
 Palestrante: Camila Mendes V
 ianna Cardoso e Paulo Henrique Reis de Oliveira (Brasil)
 PROTEÇÃO LEGA
 L DE INSETOS POLINIZADORES A PARTIR DE UMA PERSPECTIVA BRASILEIRA - COM FO
 CO ESPECIAL NA REGIÃO AMAZÔNICA
 &nbsp\;&nbsp\;&nbsp\;&nbsp\;&nbsp\;&nb
 sp\;&nbsp\;&nbsp\;&nbsp\;&nbsp\;&nbsp\;&nbsp\;&nbsp\;&nbsp\;&nbsp\;&nbsp\;
 &nbsp\;&nbsp\;&nbsp\;&nbsp\;&nbsp\;&nbsp\;&nbsp\; Palestrante: Krzysztof R
 ó?a?ski (Polônia)
 O PAPEL DA UNAMAZ NO DESENVOLVIMENTO DOS PAÍSES AMA
 ZÔNICOS
 Palestrante: José Seixas Lourenço (Brasil)
LOCATION:Hangar Centro de Convenções e Feiras da Amazônia
DTSTART:20240911T120000Z
DTEND:20240911T133000Z
DTSTAMP:20240820T233044Z
ORGANIZER;CN=Portal de Eventos - Centro Universitário Fibra:MAILTO:eventos
 @fibrapara.edu.br
GEO:-1.422834;-48.457339
X-APPLE-STRUCTURED-LOCATION;VALUE=URI;X-ADDRESS=Hangar Centro de Convençõ
 es e Feiras da Amazônia;X-APPLE-RADIUS=72;X-TITLE=Hangar Centro de Conven
 ções & Feiras da Amazônia:-1.422834;-48.457339
END:VEVENT
END:VCALENDAR