BEGIN:VCALENDAR
VERSION:2.0
PRODID:Events Booking
BEGIN:VEVENT
UID:69ea573f768d2
SUMMARY:XIII JORNADA DE BIOMEDICINA
DESCRIPTION:XIII JORNADA DE BIOMEDICINA DA FIBRABiomédicos da Fibra a serv
 iço da saúde e da ciência
 A XIII Jornada de Biomedicina apresentará 
 a multiplicidade de oportunidades que a profissão permite. As palestrante
 s do evento são todas egressas da Fibra que irão compartilhar seus conhe
 cimentos e experiências com os estudantes de Biomedicina e demais cursos.
 
 
LOCATION:Av. Gentil Bittencourt\, 1144.
DTSTART:20241121T110000Z
DTEND:20241122T160000Z
DTSTAMP:20241112T151326Z
ORGANIZER;CN=Portal de Eventos - Centro Universitário Fibra:MAILTO:eventos
 @fibrapara.edu.br
GEO:-1.455183;-48.482397
X-APPLE-STRUCTURED-LOCATION;VALUE=URI;X-ADDRESS=Av. Gentil Bittencourt\, 11
 44.;X-APPLE-RADIUS=72;X-TITLE=Centro Universitário Fibra:-1.455183;-48.48
 2397
END:VEVENT
END:VCALENDAR