BEGIN:VCALENDAR
VERSION:2.0
PRODID:Events Booking
BEGIN:VEVENT
UID:69ea6bb5af352
SUMMARY:Oficina Teórico Prática de Bacterioscopia de Secreção Vaginal
DESCRIPTION:Oficina para alunos do sexto semestre do Curso de Biomedicina

  &nbsp\;
 
LOCATION:Av. Gentil Bittencourt\, 1144.
DTSTART:20231120T163000Z
DTEND:20231120T173000Z
DTSTAMP:20231106T163552Z
ORGANIZER;CN=Portal de Eventos - Centro Universitário Fibra:MAILTO:eventos
 @fibrapara.edu.br
GEO:-1.455183;-48.482397
X-APPLE-STRUCTURED-LOCATION;VALUE=URI;X-ADDRESS=Av. Gentil Bittencourt\, 11
 44.;X-APPLE-RADIUS=72;X-TITLE=Centro Universitário Fibra:-1.455183;-48.48
 2397
END:VEVENT
END:VCALENDAR