BEGIN:VCALENDAR
VERSION:2.0
PRODID:Events Booking
BEGIN:VEVENT
UID:69ea69347ea4e
SUMMARY:Minicurso - Exames laboratoriais no pré-natal: da solicitação à
  conduta
DESCRIPTION:
LOCATION:Av. Gentil Bittencourt\, 1144.
DTSTART:20221130T180000Z
DTEND:20221129T210000Z
DTSTAMP:20221117T181604Z
ORGANIZER;CN=Portal de Eventos - Centro Universitário Fibra:MAILTO:eventos
 @fibrapara.edu.br
GEO:-1.455183;-48.482397
X-APPLE-STRUCTURED-LOCATION;VALUE=URI;X-ADDRESS=Av. Gentil Bittencourt\, 11
 44.;X-APPLE-RADIUS=72;X-TITLE=Centro Universitário Fibra:-1.455183;-48.48
 2397
END:VEVENT
END:VCALENDAR