BEGIN:VCALENDAR
VERSION:2.0
PRODID:Events Booking
BEGIN:VEVENT
UID:69ea6a66624a7
SUMMARY:VIII JORNADA DE EVIDÊNCIAS CIENTÍFICAS EM NUTRIÇÃO - 2º Dia
DESCRIPTION:Programação
 Dia 10.1208:00: Apresentação Memorial Profiss
 ional: Dra. Rosilene Noce9:30 Tema: Estratégias nutricionais no enfrentam
 ento da obesidade9:30 Tema: Relação entre seletividade alimentar e inges
 tão de nutrientes em crianças com (TEA): uma revisão de literatura10:00
  Tema: Deficiências Nutricionais em indivíduos submetidos à cirurgia ba
 riátrica: uma revisão narrativa10:00:Tema: Consequências nutricionais e
  psicológicas da anorexia nervosa em meninas na adolescência: uma revis
 ão integrativa11:00 Tema: Aleitamento materno e banco de leite humano11:3
 0 Tema: Relação entre Nutrição e Transtorno de auto imagem em Adolesce
 ntes11:30 Tema: Evidências científicas sobre Suplemento Nutricional e Fa
 diga Muscular
LOCATION:Av. Gentil Bittencourt\, 1144.
DTSTART:20241210T110000Z
DTEND:20241210T150000Z
DTSTAMP:20241204T161125Z
ORGANIZER;CN=Portal de Eventos - Centro Universitário Fibra:MAILTO:eventos
 @fibrapara.edu.br
GEO:-1.455183;-48.482397
X-APPLE-STRUCTURED-LOCATION;VALUE=URI;X-ADDRESS=Av. Gentil Bittencourt\, 11
 44.;X-APPLE-RADIUS=72;X-TITLE=Centro Universitário Fibra:-1.455183;-48.48
 2397
END:VEVENT
END:VCALENDAR