BEGIN:VCALENDAR
VERSION:2.0
PRODID:Events Booking
BEGIN:VEVENT
UID:69eca19023c14
SUMMARY:SISTEMA CONSELHOS: O PAPEL DA PSICOLOGIA BRASILEIRA
DESCRIPTION:Coadunando com a Lei nº 5.766/1971\, e em parceria com o Conse
 lho Regional de Psicologia (CRP-10)\, que cumpre as funções de orientar\
 , disciplinar e fiscalizar o exercício da profissão de psicóloga(o)\, a
 lém de zelar pela fiel observância dos princípios de ética e disciplin
 a da classe\, o Curso de Psicologia\, do Centro Universitário Fibra\, con
 vida a comunidade acadêmica interessada em participar da programação ab
 aixo especificada\, a ser realizada como parte da Disciplina “Psicologia
 : Ciência e Profissão”\, ministrada pela Profa. Dra. Laura Nogueira.

  Atividade voltada aos alunos das Turmas PS01MA (obrigatório) e PS05MA e 
 PS05NA e demais interessados na temática (acadêmicos e profissionais)
 
LOCATION:Av. Gentil Bittencourt\, 1144.
DTSTART:20260504T113000Z
DTEND:20260504T140000Z
DTSTAMP:20260423T222526Z
ORGANIZER;CN=Portal de Eventos - Centro Universitário Fibra:MAILTO:eventos
 @fibrapara.edu.br
GEO:-1.455183;-48.482397
X-APPLE-STRUCTURED-LOCATION;VALUE=URI;X-ADDRESS=Av. Gentil Bittencourt\, 11
 44.;X-APPLE-RADIUS=72;X-TITLE=Centro Universitário Fibra:-1.455183;-48.48
 2397
END:VEVENT
END:VCALENDAR