BEGIN:VCALENDAR
VERSION:2.0
PRODID:Events Booking
BEGIN:VEVENT
UID:69ea44955c7b6
SUMMARY:Semana do Médico Veterinário 
DESCRIPTION:De 01 a 03 de setembro\, o curso de Medicina Veterinária da FI
 BRA realizará a Semana do Médico Veterinário\, em homenagem ao profissi
 onal celebrado no dia 09 de setembro.
 A programação terá início com 
 a Feira de Curiosidades aberta ao público\, na manhã do dia 01 de 09 às
  11h\, apresentando temas interativos e educativos sobre o universo da Med
 icina Veterinária e Saúde Única. Nos dias 02 e 03\, no turno da tarde\,
  serão realizados minicursos teórico-práticos e atualizados\, voltados 
 à formação técnica e científica dos acadêmicos.
 A semana tem como 
 objetivo valorizar a atuação do Médico Veterinário\, profissional esse
 ncial para a promoção da saúde animal\, controle de zoonoses\, seguran
 ça alimentar\, preservação ambiental e bem-estar da sociedade.
 Públi
 co-alvo: Estudantes de Medicina Veterinária (devidamente matriculados em 
 qualquer instituição) e Médicos Veterinários
LOCATION:Av. Gentil Bittencourt\, 1144.
DTSTART:20250901T140000Z
DTEND:20250903T200000Z
DTSTAMP:20250821T135049Z
ORGANIZER;CN=Portal de Eventos - Centro Universitário Fibra:MAILTO:eventos
 @fibrapara.edu.br
GEO:-1.455183;-48.482397
X-APPLE-STRUCTURED-LOCATION;VALUE=URI;X-ADDRESS=Av. Gentil Bittencourt\, 11
 44.;X-APPLE-RADIUS=72;X-TITLE=Centro Universitário Fibra:-1.455183;-48.48
 2397
END:VEVENT
END:VCALENDAR