BEGIN:VCALENDAR
VERSION:2.0
PRODID:Events Booking
BEGIN:VEVENT
UID:69ea51f5c7430
SUMMARY:Pós-Graduação em Microbiologia Clínica - Curso de atualização
  em microbiologia 
DESCRIPTION:Evento exclusivo para alunos do curso de Pós-graduação em Mi
 crobiologia Clínica\, com Ênfase em Bacteriologia e Micologia Clínica.
DTSTART:20230812T120000Z
DTEND:20230812T143000Z
DTSTAMP:20230807T152915Z
ORGANIZER;CN=Portal de Eventos - Centro Universitário Fibra:MAILTO:eventos
 @fibrapara.edu.br
END:VEVENT
END:VCALENDAR