BEGIN:VCALENDAR
VERSION:2.0
PRODID:Events Booking
BEGIN:VEVENT
UID:69ea0237ec4fc
SUMMARY:PLANTÃO PSICOLOGICO: UMA POSSIBILIDADE DE ACOLHIMENTO
DESCRIPTION:O Plantão Psicológico tem o objetivo de atender as necessidad
 es da comunidade com atendimento psicológico\, bem como possibilitar form
 ação acadêmica em psicologia\, aos alunos graduandos.
 CONVIDADAS: 
 
 1. Adriana Nascimento. Psicóloga. Profa. Ma. Do Centro Universitário Fib
 ra
 2. ⁠Fernanda Teixeira de Barros Neta. Psicóloga. Profa. Dra. da Un
 iversidade Federal do Amapá (UNIFAP).
 &nbsp\;
 
LOCATION:Av. Gentil Bittencourt\, 1144.
DTSTART:20260226T110000Z
DTEND:20260226T150000Z
DTSTAMP:20260225T232007Z
ORGANIZER;CN=Portal de Eventos - Centro Universitário Fibra:MAILTO:eventos
 @fibrapara.edu.br
GEO:-1.455183;-48.482397
X-APPLE-STRUCTURED-LOCATION;VALUE=URI;X-ADDRESS=Av. Gentil Bittencourt\, 11
 44.;X-APPLE-RADIUS=72;X-TITLE=Centro Universitário Fibra:-1.455183;-48.48
 2397
END:VEVENT
END:VCALENDAR