BEGIN:VCALENDAR
VERSION:2.0
PRODID:Events Booking
BEGIN:VEVENT
UID:69ea46571d07d
SUMMARY:OFICINA - RESPOSTA A ACUSAÇÃO: Elaboração de peça
DESCRIPTION:Requisitos. O que pedir na peça (O recebimento da resposta à 
 acusação\; A improcedência dos pedidos do MP\; Absolvição sumária\; 
 Reconhecimento de prova ilegal – por meio ilícito – e seu desentranha
 mento ou desconsideração).Finalidade. Procedimento.
LOCATION:Av. Gentil Bittencourt\, 1144.
DTSTART:20231025T180000Z
DTEND:20231025T210000Z
DTSTAMP:20230821T061430Z
ORGANIZER;CN=Portal de Eventos - Centro Universitário Fibra:MAILTO:eventos
 @fibrapara.edu.br
GEO:-1.455183;-48.482397
X-APPLE-STRUCTURED-LOCATION;VALUE=URI;X-ADDRESS=Av. Gentil Bittencourt\, 11
 44.;X-APPLE-RADIUS=72;X-TITLE=Centro Universitário Fibra:-1.455183;-48.48
 2397
END:VEVENT
END:VCALENDAR