BEGIN:VCALENDAR
VERSION:2.0
PRODID:Events Booking
BEGIN:VEVENT
UID:69ea5671a51d2
SUMMARY:OFICINA - Estudos Criminais: Psicopatia no Ordenamento Jurídico / 
 Local de crime
DESCRIPTION:A Importância da Psicologia Forense. As Distinções Important
 es entre Psicopatas Criminosos e Sociopatas. Comportamento de Serial Kille
 rs Brasileiros. Legislação penal sobre o assunto. Aspectos relevantes so
 bre o local de crime.
LOCATION:Av. Gentil Bittencourt\, 1144.
DTSTART:20231025T180000Z
DTEND:20231025T210000Z
DTSTAMP:20230821T061430Z
ORGANIZER;CN=Portal de Eventos - Centro Universitário Fibra:MAILTO:eventos
 @fibrapara.edu.br
GEO:-1.455183;-48.482397
X-APPLE-STRUCTURED-LOCATION;VALUE=URI;X-ADDRESS=Av. Gentil Bittencourt\, 11
 44.;X-APPLE-RADIUS=72;X-TITLE=Centro Universitário Fibra:-1.455183;-48.48
 2397
END:VEVENT
END:VCALENDAR