BEGIN:VCALENDAR
VERSION:2.0
PRODID:Events Booking
BEGIN:VEVENT
UID:69ea467e4b2c2
SUMMARY:OFICINA - Análise e elaboração de contratos
DESCRIPTION:Elaboração de contratos do Direito Civil como Contrato de Com
 pra e Venda\, Contrato de Doação\, Contrato de Locação\, Contratos de 
 Empréstimos\, Contrato de Mandato\, dentre outros. A oficina visa discuti
 r e analisar as cláusulas contratuais e ainda elaborar contratos com base
  nos casos apresentados.
LOCATION:Av. Gentil Bittencourt\, 1144.
DTSTART:20231025T180000Z
DTEND:20231025T210000Z
DTSTAMP:20230821T061430Z
ORGANIZER;CN=Portal de Eventos - Centro Universitário Fibra:MAILTO:eventos
 @fibrapara.edu.br
GEO:-1.455183;-48.482397
X-APPLE-STRUCTURED-LOCATION;VALUE=URI;X-ADDRESS=Av. Gentil Bittencourt\, 11
 44.;X-APPLE-RADIUS=72;X-TITLE=Centro Universitário Fibra:-1.455183;-48.48
 2397
END:VEVENT
END:VCALENDAR