BEGIN:VCALENDAR
VERSION:2.0
PRODID:Events Booking
BEGIN:VEVENT
UID:69ea43e003191
SUMMARY:OFICINA - O Sistema Interamericano de Direitos Humanos (SIDH) e o B
 rasil
DESCRIPTION:A criação do SIDH. A atuação da Comissão Interamericana de
  Direitos Humanos. O sistema individual de petições. A Corte Interameric
 ana de Direitos Humanos e a jurisprudência sobre o Brasil. A executividad
 e das decisões da Corte em território nacional.
LOCATION:Av. Gentil Bittencourt\, 1144.
DTSTART:20231025T120000Z
DTEND:20231025T150000Z
DTSTAMP:20230821T061430Z
ORGANIZER;CN=Portal de Eventos - Centro Universitário Fibra:MAILTO:eventos
 @fibrapara.edu.br
GEO:-1.455183;-48.482397
X-APPLE-STRUCTURED-LOCATION;VALUE=URI;X-ADDRESS=Av. Gentil Bittencourt\, 11
 44.;X-APPLE-RADIUS=72;X-TITLE=Centro Universitário Fibra:-1.455183;-48.48
 2397
END:VEVENT
END:VCALENDAR