BEGIN:VCALENDAR
VERSION:2.0
PRODID:Events Booking
BEGIN:VEVENT
UID:69ea696668b8a
SUMMARY:OFICINA - Informação\, documentação e apresentação das NBR’
 s 6028 (resumo) e 10520 (citações) e suas utilizações nos documentos c
 ientíficos
DESCRIPTION:Informação\, documentação e apresentação\; Resumo\, resen
 ha e recensão. Informação\, documentação e apresentação\; Citaçõe
 s em documentos.
LOCATION:Av. Gentil Bittencourt\, 1144.
DTSTART:20231025T120000Z
DTEND:20231025T150000Z
DTSTAMP:20230821T061430Z
ORGANIZER;CN=Portal de Eventos - Centro Universitário Fibra:MAILTO:eventos
 @fibrapara.edu.br
GEO:-1.455183;-48.482397
X-APPLE-STRUCTURED-LOCATION;VALUE=URI;X-ADDRESS=Av. Gentil Bittencourt\, 11
 44.;X-APPLE-RADIUS=72;X-TITLE=Centro Universitário Fibra:-1.455183;-48.48
 2397
END:VEVENT
END:VCALENDAR