BEGIN:VCALENDAR
VERSION:2.0
PRODID:Events Booking
BEGIN:VEVENT
UID:69ea8c655ec4a
SUMMARY:OFICINA - Empresas de base tecnológica & Proteção de Dados: das 
 Startups a conformidade com a LGPD
DESCRIPTION:Conceito de Startups. Requisitos para se caracterizar como star
 tup. Processo de abertura de startup. Tratamento diferenciado as empresa d
 e base tecnológicas. Proteção de Dados.&nbsp\;Classificação dos Dados
  Pessoais. Hipóteses de Tratamentos de Dados por Startups. Parâmetros Ge
 rais da Lei Geral de Proteção de Dados. Exercício Prático sobre Dados 
 Pessoais.
LOCATION:Av. Gentil Bittencourt\, 1144.
DTSTART:20231025T120000Z
DTEND:20231025T150000Z
DTSTAMP:20230821T061430Z
ORGANIZER;CN=Portal de Eventos - Centro Universitário Fibra:MAILTO:eventos
 @fibrapara.edu.br
GEO:-1.455183;-48.482397
X-APPLE-STRUCTURED-LOCATION;VALUE=URI;X-ADDRESS=Av. Gentil Bittencourt\, 11
 44.;X-APPLE-RADIUS=72;X-TITLE=Centro Universitário Fibra:-1.455183;-48.48
 2397
END:VEVENT
END:VCALENDAR